BEGIN:VCALENDAR
VERSION:2.0
PRODID:-//Centro Enseñanza Superior Cardenal Cisneros Madrid - ECPv6.15.20//NONSGML v1.0//EN
CALSCALE:GREGORIAN
METHOD:PUBLISH
X-WR-CALNAME:Centro Enseñanza Superior Cardenal Cisneros Madrid
X-ORIGINAL-URL:https://www.cescisneros.es
X-WR-CALDESC:Eventos para Centro Enseñanza Superior Cardenal Cisneros Madrid
REFRESH-INTERVAL;VALUE=DURATION:PT1H
X-Robots-Tag:noindex
X-PUBLISHED-TTL:PT1H
BEGIN:VTIMEZONE
TZID:Europe/Madrid
BEGIN:DAYLIGHT
TZOFFSETFROM:+0100
TZOFFSETTO:+0200
TZNAME:CEST
DTSTART:20250330T010000
END:DAYLIGHT
BEGIN:STANDARD
TZOFFSETFROM:+0200
TZOFFSETTO:+0100
TZNAME:CET
DTSTART:20251026T010000
END:STANDARD
BEGIN:DAYLIGHT
TZOFFSETFROM:+0100
TZOFFSETTO:+0200
TZNAME:CEST
DTSTART:20260329T010000
END:DAYLIGHT
BEGIN:STANDARD
TZOFFSETFROM:+0200
TZOFFSETTO:+0100
TZNAME:CET
DTSTART:20261025T010000
END:STANDARD
BEGIN:DAYLIGHT
TZOFFSETFROM:+0100
TZOFFSETTO:+0200
TZNAME:CEST
DTSTART:20270328T010000
END:DAYLIGHT
BEGIN:STANDARD
TZOFFSETFROM:+0200
TZOFFSETTO:+0100
TZNAME:CET
DTSTART:20271031T010000
END:STANDARD
END:VTIMEZONE
BEGIN:VEVENT
DTSTART;TZID=Europe/Madrid:20260505T130000
DTEND;TZID=Europe/Madrid:20260505T130000
DTSTAMP:20260425T140559
CREATED:20260424T104647Z
LAST-MODIFIED:20260424T104923Z
UID:321390-1777986000-1777986000@www.cescisneros.es
SUMMARY:Presentación de la II Edición del título de Experto en Salud Mental Perinatal
DESCRIPTION:Martes 5 de mayo a las 13 h\nSALA CISNEROS \nPara inscripciones: bhorrillo@cescisneros.es
URL:https://www.cescisneros.es/evento/presentacion-de-la-ii-edicion-del-titulo-de-experto-en-salud-mental-perinatal/
CATEGORIES:Presentación
END:VEVENT
END:VCALENDAR