BEGIN:VCALENDAR
VERSION:2.0
PRODID:-//Centro Enseñanza Superior Cardenal Cisneros Madrid - ECPv6.15.20//NONSGML v1.0//EN
CALSCALE:GREGORIAN
METHOD:PUBLISH
X-WR-CALNAME:Centro Enseñanza Superior Cardenal Cisneros Madrid
X-ORIGINAL-URL:https://www.cescisneros.es
X-WR-CALDESC:Eventos para Centro Enseñanza Superior Cardenal Cisneros Madrid
REFRESH-INTERVAL;VALUE=DURATION:PT1H
X-Robots-Tag:noindex
X-PUBLISHED-TTL:PT1H
BEGIN:VTIMEZONE
TZID:Europe/Madrid
BEGIN:DAYLIGHT
TZOFFSETFROM:+0100
TZOFFSETTO:+0200
TZNAME:CEST
DTSTART:20230326T010000
END:DAYLIGHT
BEGIN:STANDARD
TZOFFSETFROM:+0200
TZOFFSETTO:+0100
TZNAME:CET
DTSTART:20231029T010000
END:STANDARD
BEGIN:DAYLIGHT
TZOFFSETFROM:+0100
TZOFFSETTO:+0200
TZNAME:CEST
DTSTART:20240331T010000
END:DAYLIGHT
BEGIN:STANDARD
TZOFFSETFROM:+0200
TZOFFSETTO:+0100
TZNAME:CET
DTSTART:20241027T010000
END:STANDARD
BEGIN:DAYLIGHT
TZOFFSETFROM:+0100
TZOFFSETTO:+0200
TZNAME:CEST
DTSTART:20250330T010000
END:DAYLIGHT
BEGIN:STANDARD
TZOFFSETFROM:+0200
TZOFFSETTO:+0100
TZNAME:CET
DTSTART:20251026T010000
END:STANDARD
END:VTIMEZONE
BEGIN:VEVENT
DTSTART;TZID=Europe/Madrid:20241211T123000
DTEND;TZID=Europe/Madrid:20241211T143000
DTSTAMP:20260421T133226
CREATED:20241205T104617Z
LAST-MODIFIED:20241205T104617Z
UID:292601-1733920200-1733927400@www.cescisneros.es
SUMMARY:Seminario de Ética y Deontología profesional en Psicología
DESCRIPTION:Para alumnos del grupo de mañana de 4º de Psicología\nMás información: anamartinez@cesdisneros.es\nConsulta el programa aquí \nMiércoles 11 de diciembre\nDe 12.30 a 14.30 horas\nAula 30 y 31
URL:https://www.cescisneros.es/evento/seminario-de-etica-y-deontologia-profesional-en-psicologia-2/
LOCATION:CES Cardenal Cisneros\, C/ General Díaz Porlier 58\, Madrid\, 28006
CATEGORIES:Seminario
END:VEVENT
END:VCALENDAR