BEGIN:VCALENDAR
VERSION:2.0
PRODID:-//Centro Enseñanza Superior Cardenal Cisneros Madrid - ECPv6.15.20//NONSGML v1.0//EN
CALSCALE:GREGORIAN
METHOD:PUBLISH
X-ORIGINAL-URL:https://www.cescisneros.es
X-WR-CALDESC:Eventos para Centro Enseñanza Superior Cardenal Cisneros Madrid
REFRESH-INTERVAL;VALUE=DURATION:PT1H
X-Robots-Tag:noindex
X-PUBLISHED-TTL:PT1H
BEGIN:VTIMEZONE
TZID:Europe/Madrid
BEGIN:DAYLIGHT
TZOFFSETFROM:+0100
TZOFFSETTO:+0200
TZNAME:CEST
DTSTART:20240331T010000
END:DAYLIGHT
BEGIN:STANDARD
TZOFFSETFROM:+0200
TZOFFSETTO:+0100
TZNAME:CET
DTSTART:20241027T010000
END:STANDARD
BEGIN:DAYLIGHT
TZOFFSETFROM:+0100
TZOFFSETTO:+0200
TZNAME:CEST
DTSTART:20250330T010000
END:DAYLIGHT
BEGIN:STANDARD
TZOFFSETFROM:+0200
TZOFFSETTO:+0100
TZNAME:CET
DTSTART:20251026T010000
END:STANDARD
BEGIN:DAYLIGHT
TZOFFSETFROM:+0100
TZOFFSETTO:+0200
TZNAME:CEST
DTSTART:20260329T010000
END:DAYLIGHT
BEGIN:STANDARD
TZOFFSETFROM:+0200
TZOFFSETTO:+0100
TZNAME:CET
DTSTART:20261025T010000
END:STANDARD
END:VTIMEZONE
BEGIN:VEVENT
DTSTART;TZID=Europe/Madrid:20250213T093000
DTEND;TZID=Europe/Madrid:20250213T093000
DTSTAMP:20260421T120430
CREATED:20250130T110419Z
LAST-MODIFIED:20250130T110554Z
UID:296448-1739439000-1739439000@www.cescisneros.es
SUMMARY:Jornada Divulgativa de la Psicología del Trabajo
DESCRIPTION:Para estudiantes de 3º y 4 º de Psicología\nJueves 13 de febrero\n9.30 horas\nSede Colegio Oficial de la Psicología de Madrid (Carretera de San Vicente\, 4)\nInscripción: mnovillo@cescisneros.es
URL:https://www.cescisneros.es/evento/jornada-divulgativa-de-la-psicologia-del-trabajo/
LOCATION:Madrid
END:VEVENT
END:VCALENDAR