BEGIN:VCALENDAR
VERSION:2.0
PRODID:-//Centro Enseñanza Superior Cardenal Cisneros Madrid - ECPv6.15.20//NONSGML v1.0//EN
CALSCALE:GREGORIAN
METHOD:PUBLISH
X-WR-CALNAME:Centro Enseñanza Superior Cardenal Cisneros Madrid
X-ORIGINAL-URL:https://www.cescisneros.es
X-WR-CALDESC:Eventos para Centro Enseñanza Superior Cardenal Cisneros Madrid
REFRESH-INTERVAL;VALUE=DURATION:PT1H
X-Robots-Tag:noindex
X-PUBLISHED-TTL:PT1H
BEGIN:VTIMEZONE
TZID:Europe/Madrid
BEGIN:DAYLIGHT
TZOFFSETFROM:+0100
TZOFFSETTO:+0200
TZNAME:CEST
DTSTART:20240331T010000
END:DAYLIGHT
BEGIN:STANDARD
TZOFFSETFROM:+0200
TZOFFSETTO:+0100
TZNAME:CET
DTSTART:20241027T010000
END:STANDARD
BEGIN:DAYLIGHT
TZOFFSETFROM:+0100
TZOFFSETTO:+0200
TZNAME:CEST
DTSTART:20250330T010000
END:DAYLIGHT
BEGIN:STANDARD
TZOFFSETFROM:+0200
TZOFFSETTO:+0100
TZNAME:CET
DTSTART:20251026T010000
END:STANDARD
BEGIN:DAYLIGHT
TZOFFSETFROM:+0100
TZOFFSETTO:+0200
TZNAME:CEST
DTSTART:20260329T010000
END:DAYLIGHT
BEGIN:STANDARD
TZOFFSETFROM:+0200
TZOFFSETTO:+0100
TZNAME:CET
DTSTART:20261025T010000
END:STANDARD
BEGIN:DAYLIGHT
TZOFFSETFROM:+0100
TZOFFSETTO:+0200
TZNAME:CEST
DTSTART:20270328T010000
END:DAYLIGHT
BEGIN:STANDARD
TZOFFSETFROM:+0200
TZOFFSETTO:+0100
TZNAME:CET
DTSTART:20271031T010000
END:STANDARD
END:VTIMEZONE
BEGIN:VEVENT
DTSTART;TZID=Europe/Madrid:20250218T133000
DTEND;TZID=Europe/Madrid:20250218T150000
DTSTAMP:20260421T185718
CREATED:20250205T083757Z
LAST-MODIFIED:20250205T093057Z
UID:297079-1739885400-1739890800@www.cescisneros.es
SUMMARY:Seminario sobre prevención y abordaje de adicciones
DESCRIPTION:Juegos de azar y apuestas deportivas: riesgos\, trastornos derivados y abordaje psicológico \nSylvia Requena Fernández y Eva Sánchez Núñez\nFundación Atenea \nSe expedirá certificado acreditativo. \n18/02/2025\n13:30 h.\nSala Cisneros
URL:https://www.cescisneros.es/evento/seminario-sobre-prevencion-y-abordaje-de-adicciones/
LOCATION:Sala Cisneros\, c/ General Díaz Porlier 58\, Madrid\, Madrid\, 28006\, Spain
CATEGORIES:Seminario
END:VEVENT
BEGIN:VEVENT
DTSTART;TZID=Europe/Madrid:20250225T133000
DTEND;TZID=Europe/Madrid:20250225T133000
DTSTAMP:20260421T185718
CREATED:20250213T093118Z
LAST-MODIFIED:20250213T093731Z
UID:297638-1740490200-1740490200@www.cescisneros.es
SUMMARY:Jornadas de Actualidad Psicológica 2024/2025
DESCRIPTION:Acompañamiento desde la psicología a las personas trans \nMarta Aparicio García\nDepartamento de Psicología Social\, del Trabajo y Diferencial \n25/02/2025\n13:30 h.
URL:https://www.cescisneros.es/evento/jornadas-de-actualidad-psicologica-2024-2025-2/
LOCATION:Madrid
CATEGORIES:Jornadas
END:VEVENT
BEGIN:VEVENT
DTSTART;TZID=Europe/Madrid:20250304T133000
DTEND;TZID=Europe/Madrid:20250304T133000
DTSTAMP:20260421T185718
CREATED:20250225T102835Z
LAST-MODIFIED:20250225T103259Z
UID:298376-1741095000-1741095000@www.cescisneros.es
SUMMARY:Jornadas Actualidad Psicológica  2024/2025
DESCRIPTION:Las emociones académicas.\nRadiografía del sentir universitario\, su vínculo con el abandono y el poder de su gestión\n04/03/2025\, 13:30 \nManuel Iglesias Soilán\nSección Departamental de Investigación en Psicología y Educación \n04/03/2025\, 13:30 h.
URL:https://www.cescisneros.es/evento/jornadas-de-actualidad-psicologica-2024-2025/
LOCATION:Madrid
CATEGORIES:Jornadas
END:VEVENT
BEGIN:VEVENT
DTSTART;TZID=Europe/Madrid:20250313T130000
DTEND;TZID=Europe/Madrid:20250313T130000
DTSTAMP:20260421T185718
CREATED:20250313T070926Z
LAST-MODIFIED:20250313T071033Z
UID:299335-1741870800-1741870800@www.cescisneros.es
SUMMARY:Acto de Clausura del Programa de Mentoría curso 2024/2025
DESCRIPTION:
URL:https://www.cescisneros.es/evento/acto-de-clausura-del-programa-de-mentoria-curso-2024-2025/
LOCATION:Sala Cisneros\, c/ General Díaz Porlier 58\, Madrid\, Madrid\, 28006\, Spain
END:VEVENT
BEGIN:VEVENT
DTSTART;TZID=Europe/Madrid:20250318T123000
DTEND;TZID=Europe/Madrid:20250318T143000
DTSTAMP:20260421T185718
CREATED:20250313T101925Z
LAST-MODIFIED:20250313T102014Z
UID:299350-1742301000-1742308200@www.cescisneros.es
SUMMARY:Introducción a la salud mental perinatal
DESCRIPTION:Bárbara Horrillo. Directora del Máster en Psicología General Sanitaria. CES Cardenal Cisneros.\nJudit Betancort. Psicóloga general sanitaria en práctica privada. \n18 de marzo de 2025\n12:30-14:30\nSala Cisneros
URL:https://www.cescisneros.es/evento/introduccion-a-la-salud-mental-perinatal/
LOCATION:Madrid
CATEGORIES:Conferencias
END:VEVENT
BEGIN:VEVENT
DTSTART;TZID=Europe/Madrid:20250320T170000
DTEND;TZID=Europe/Madrid:20250320T170000
DTSTAMP:20260421T185718
CREATED:20250313T074617Z
LAST-MODIFIED:20250313T074658Z
UID:299337-1742490000-1742490000@www.cescisneros.es
SUMMARY:Workshop. Caso de éxito: BeChiara
DESCRIPTION:En la Sala Cisneros\nJueves 20 de marzo a las 17h.
URL:https://www.cescisneros.es/evento/workshop-caso-de-exito-bechiara/
LOCATION:Sala Cisneros\, c/ General Díaz Porlier 58\, Madrid\, Madrid\, 28006\, Spain
CATEGORIES:Conferencia
END:VEVENT
BEGIN:VEVENT
DTSTART;TZID=Europe/Madrid:20250325T123000
DTEND;TZID=Europe/Madrid:20250325T123000
DTSTAMP:20260421T185718
CREATED:20250205T084717Z
LAST-MODIFIED:20250213T093610Z
UID:297083-1742905800-1742905800@www.cescisneros.es
SUMMARY:El poder del diálogo clínico en psicología de la salud
DESCRIPTION:Ernesto López Méndez\nMédico especialista en medicina familiar y comunitaria. Psicólogo especialista en psicología clínica. Coautor de Manual ilustrado de habilidades de comunicación: guía clínica para profesionales de la salud (Pirámide\, 2023) \nHelena García Llana\nProfesora de la División de Psicología del CES Cardenal Cisneros \n25/03/2025\n12:30 h.
URL:https://www.cescisneros.es/evento/el-poder-del-dialogo-clinico-en-psicologia-de-la-salud/
LOCATION:Madrid
CATEGORIES:Mesa Redonda
END:VEVENT
BEGIN:VEVENT
DTSTART;TZID=Europe/Madrid:20250327T123000
DTEND;TZID=Europe/Madrid:20250327T140000
DTSTAMP:20260421T185718
CREATED:20250312T090835Z
LAST-MODIFIED:20250327T092702Z
UID:299286-1743078600-1743084000@www.cescisneros.es
SUMMARY:El impacto de la Ley Orgánica 1/2025\, de medidas en materia de eficiencia del Servicio Público de Justicia
DESCRIPTION:Ponentes:  \n• Excmo. Sr. D. Wenceslao Olea Godoy. Magistrado del Tribunal Supremo y ex vocal del CGPJ.\n• D. Julio Banacloche Palao. Catedrático de Derecho Procesal Universidad Complutense de Madrid.  \njueves 27 de marzo de 2025\n12:30 hs.\nSala Cisneros
URL:https://www.cescisneros.es/evento/el-impacto-de-la-ley-organica-1-2025-de-medidas-en-materia-de-eficiencia-del-servicio-publico-de-justicia/
LOCATION:Sala Cisneros\, c/ General Díaz Porlier 58\, Madrid\, Madrid\, 28006\, Spain
CATEGORIES:Conferencias
END:VEVENT
BEGIN:VEVENT
DTSTART;TZID=Europe/Madrid:20250404T150000
DTEND;TZID=Europe/Madrid:20250404T150000
DTSTAMP:20260421T185718
CREATED:20250401T074322Z
LAST-MODIFIED:20250401T074425Z
UID:301575-1743778800-1743778800@www.cescisneros.es
SUMMARY:VI Premio Cardenal Cisneros
DESCRIPTION:Raúl Canosa\, director del CES Cardenal Cisneros.\nEduardo Serrano\, secretario general del CES Cardenal Cisneros. \nTesis premiadas:\n•	Marisol Carvajal Camperos\, de la división de Economía y Empresa\, por su tesis “Factores explicativos de la formación efectiva de alianzas estratégicas en el sector de la biotecnología”.\n•	Adrián Viejo Mañanes\, de la división de Derechom por su tesis “El delito de fraude de prestaciones del sistema de la seguridad social (art. 307 ter CP)”.\n•	Almudena Trucharte Martínez\, de la división de Psicología\, por su tesis “Procesos de inferencia social y apego en el espectro de la paranoia”.
URL:https://www.cescisneros.es/evento/vi-premio-cardenal-cisneros/
LOCATION:Madrid
END:VEVENT
BEGIN:VEVENT
DTSTART;TZID=Europe/Madrid:20250409T130000
DTEND;TZID=Europe/Madrid:20250409T130000
DTSTAMP:20260421T185718
CREATED:20250407T093002Z
LAST-MODIFIED:20250407T093347Z
UID:301981-1744203600-1744203600@www.cescisneros.es
SUMMARY:Presentación del IV Programa de Mentoría 2025-26
DESCRIPTION:  \nA las 13 y a las 16h. \nSala Cisneros
URL:https://www.cescisneros.es/evento/presentacion-del-iv-programa-de-mentoria-2025-26/
LOCATION:Sala Cisneros\, c/ General Díaz Porlier 58\, Madrid\, Madrid\, 28006\, Spain
CATEGORIES:Presentación
END:VEVENT
BEGIN:VEVENT
DTSTART;TZID=Europe/Madrid:20250422T133000
DTEND;TZID=Europe/Madrid:20250422T133000
DTSTAMP:20260421T185718
CREATED:20250410T093743Z
LAST-MODIFIED:20250410T093826Z
UID:302242-1745328600-1745328600@www.cescisneros.es
SUMMARY:Jornada de Psicología Clínica y de la Salud
DESCRIPTION:Martes 22 de abril\, 13:30\,  \nSala Cisneros \n 
URL:https://www.cescisneros.es/evento/jornada-de-psicologia-clinica-y-de-la-salud/
LOCATION:Sala Cisneros\, c/ General Díaz Porlier 58\, Madrid\, Madrid\, 28006\, Spain
CATEGORIES:Jornadas
END:VEVENT
BEGIN:VEVENT
DTSTART;TZID=Europe/Madrid:20250423T133000
DTEND;TZID=Europe/Madrid:20250423T133000
DTSTAMP:20260421T185718
CREATED:20250410T094002Z
LAST-MODIFIED:20250410T094354Z
UID:302244-1745415000-1745415000@www.cescisneros.es
SUMMARY:Jornada de Psicología del Trabajo
DESCRIPTION:Miércoles\, 23 de abril\, 13:30\, aula 30+31 \n 
URL:https://www.cescisneros.es/evento/jornada-de-psicologia-del-trabajo/
LOCATION:Aula 30+31\, C/ General Díaz Porlier 58\, Madrid\, 28006
CATEGORIES:Jornadas
END:VEVENT
BEGIN:VEVENT
DTSTART;TZID=Europe/Madrid:20250424T133000
DTEND;TZID=Europe/Madrid:20250424T133000
DTSTAMP:20260421T185718
CREATED:20250410T094132Z
LAST-MODIFIED:20250410T094140Z
UID:302246-1745501400-1745501400@www.cescisneros.es
SUMMARY:Jornada de Intervención en Psicología Social
DESCRIPTION:Jueves\, 24 de abril\, 13:30  \nSala Cisneros \n 
URL:https://www.cescisneros.es/evento/jornada-de-intervencion-en-psicologia-social/
LOCATION:Sala Cisneros\, c/ General Díaz Porlier 58\, Madrid\, Madrid\, 28006\, Spain
CATEGORIES:Jornadas
END:VEVENT
BEGIN:VEVENT
DTSTART;TZID=Europe/Madrid:20250605T123000
DTEND;TZID=Europe/Madrid:20250605T123000
DTSTAMP:20260421T185718
CREATED:20250516T072508Z
LAST-MODIFIED:20250516T072817Z
UID:303908-1749126600-1749126600@www.cescisneros.es
SUMMARY:Acto de Entrega de diplomas de las becas de Excelencia Académica
DESCRIPTION:12:30h\nSala Cisneros
URL:https://www.cescisneros.es/evento/acto-de-entrega-de-diplomas-de-las-becas-de-excelencia-academica/
LOCATION:Sala Cisneros\, c/ General Díaz Porlier 58\, Madrid\, Madrid\, 28006\, Spain
CATEGORIES:Entrega de diplomas
END:VEVENT
BEGIN:VEVENT
DTSTART;TZID=Europe/Madrid:20250710T173000
DTEND;TZID=Europe/Madrid:20250710T173000
DTSTAMP:20260421T185718
CREATED:20250704T102400Z
LAST-MODIFIED:20250704T102435Z
UID:308257-1752168600-1752168600@www.cescisneros.es
SUMMARY:Graduación del Máster en Dirección\, Gestión y Liderazgo en Recursos Humanos
DESCRIPTION:Jueves 10 de julio\, a las 17:30h
URL:https://www.cescisneros.es/evento/graduacion-del-master-en-direccion-gestion-y-liderazgo-en-recursos-humanos/
LOCATION:CES Cardenal Cisneros\, C/ General Díaz Porlier 58\, Madrid\, 28006
CATEGORIES:Entrega de diplomas
ORGANIZER;CN="CES Cardenal Cisneros":MAILTO:admisiones@cescisneros.es
END:VEVENT
BEGIN:VEVENT
DTSTART;TZID=Europe/Madrid:20250904T093000
DTEND;TZID=Europe/Madrid:20250904T180000
DTSTAMP:20260421T185718
CREATED:20250902T075440Z
LAST-MODIFIED:20250902T075440Z
UID:311859-1756978200-1757008800@www.cescisneros.es
SUMMARY:Jornadas de la Bienvenida Cisneros 2025-26
DESCRIPTION:Jueves 4 de septiembre  \nDe 9:30 a 18h.
URL:https://www.cescisneros.es/evento/jornadas-de-la-bienvenida-cisneros-2025-26/
LOCATION:CES Cardenal Cisneros\, C/ General Díaz Porlier 58\, Madrid\, 28006
CATEGORIES:Jornadas
ORGANIZER;CN="CES Cardenal Cisneros":MAILTO:admisiones@cescisneros.es
END:VEVENT
BEGIN:VEVENT
DTSTART;TZID=Europe/Madrid:20250905T093000
DTEND;TZID=Europe/Madrid:20250905T140000
DTSTAMP:20260421T185718
CREATED:20250902T075651Z
LAST-MODIFIED:20250902T075651Z
UID:311861-1757064600-1757080800@www.cescisneros.es
SUMMARY:Jornadas de la Bienvenida Cisneros 2025-26
DESCRIPTION:viernes 5 de septiembre  \nDe 9:30 a 14h.
URL:https://www.cescisneros.es/evento/jornadas-de-la-bienvenida-cisneros-2025-26-2/
LOCATION:CES Cardenal Cisneros\, C/ General Díaz Porlier 58\, Madrid\, 28006
CATEGORIES:Jornadas
ORGANIZER;CN="CES Cardenal Cisneros":MAILTO:admisiones@cescisneros.es
END:VEVENT
BEGIN:VEVENT
DTSTART;TZID=Europe/Madrid:20250924T133000
DTEND;TZID=Europe/Madrid:20250924T133000
DTSTAMP:20260421T185718
CREATED:20250918T112802Z
LAST-MODIFIED:20250918T112845Z
UID:312592-1758720600-1758720600@www.cescisneros.es
SUMMARY:Asociación IRIS - Reunión de Introducción
DESCRIPTION:Miércoles 24 a las 13:30h en la sala Cisneros.
URL:https://www.cescisneros.es/evento/asociacion-iris-reunion-de-introduccion/
LOCATION:Madrid
CATEGORIES:Sesión informativa
END:VEVENT
BEGIN:VEVENT
DTSTART;TZID=Europe/Madrid:20251003T100000
DTEND;TZID=Europe/Madrid:20251003T170000
DTSTAMP:20260421T185718
CREATED:20250924T122551Z
LAST-MODIFIED:20250926T115229Z
UID:312763-1759485600-1759510800@www.cescisneros.es
SUMMARY:X Jornadas de Actualización en Psicología General Sanitaria en Contextos Hospitalarios
DESCRIPTION:26 de septiembre y 3 de octubre de 2025\n(acceso libre hasta completa aforo) \nPara asistir puedes contactar con\nsaragonzalez@cescisneros.es\nSe acreditará asistencia a las jornadas. \n  \nPrograma en Pdf
URL:https://www.cescisneros.es/evento/x-jornadas-de-actualizacion-en-psicologia-general-sanitaria-en-contextos-hospitalarios/
LOCATION:Sala Cisneros\, c/ General Díaz Porlier 58\, Madrid\, Madrid\, 28006\, Spain
CATEGORIES:Jornadas
END:VEVENT
BEGIN:VEVENT
DTSTART;TZID=Europe/Madrid:20251008T190000
DTEND;TZID=Europe/Madrid:20251008T190000
DTSTAMP:20260421T185718
CREATED:20250930T081100Z
LAST-MODIFIED:20250930T081516Z
UID:312916-1759950000-1759950000@www.cescisneros.es
SUMMARY:Las reestructuraciones tras los 3 años de vigencia de la Ley 16/2022: lecciones aprendidas y por aprender
DESCRIPTION:Ponentes: \nLuis Sánchez-Velo\, Director jurídico de reestructuraciones de Banco de Santander. \nCruz Amado\, Socia del área de Insolvencias y Reestructuraciones de Fieldfisher. \n  \nModerador: \nJosé Carlos González\, Socio director del área de Insolvencias y Reestructuraciones de CECA MAGÁN Abogados. \nDirector del Curso de Especialización en Reestructuraciones Empresariales de CES Cisneros. \n  \nLa asistencia puede ser presencial (en sala Cisneros) u online (a través de Zoom). \nLos interesados en asistir deberán mandar un correo a ipei@cescisneros.es. Indicando nombre y apellidos y correo electrónico.
URL:https://www.cescisneros.es/evento/las-reestructuraciones-tras-los-3-anos-de-vigencia-de-la-ley-16-2022-lecciones-aprendidas-y-por-aprender/
LOCATION:Sala Cisneros\, c/ General Díaz Porlier 58\, Madrid\, Madrid\, 28006\, Spain
CATEGORIES:Mesa Redonda
END:VEVENT
BEGIN:VEVENT
DTSTART;TZID=Europe/Madrid:20251013T130000
DTEND;TZID=Europe/Madrid:20251013T130000
DTSTAMP:20260421T185718
CREATED:20251009T062351Z
LAST-MODIFIED:20251009T062426Z
UID:313230-1760360400-1760360400@www.cescisneros.es
SUMMARY:Reunión informativa ERASMUS
DESCRIPTION:13 de octubre.\nA las 13:00 h. \nAula 30-31.
URL:https://www.cescisneros.es/evento/reunion-informativa-erasmus/
LOCATION:Aula 30+31\, C/ General Díaz Porlier 58\, Madrid\, 28006
CATEGORIES:Sesión informativa
END:VEVENT
BEGIN:VEVENT
DTSTART;TZID=Europe/Madrid:20251013T173000
DTEND;TZID=Europe/Madrid:20251013T190000
DTSTAMP:20260421T185718
CREATED:20250926T114720Z
LAST-MODIFIED:20250926T114720Z
UID:312826-1760376600-1760382000@www.cescisneros.es
SUMMARY:Conferencia Inaugural del Máster en Dirección\, Gestión y Liderazgo en RRHH
DESCRIPTION:Conferencia Inaugural del Máster en Dirección\, Gestión y Liderazgo en RRHH | Teresa Moreno y “La Dirección de Recursos Humanos en el siglo XXI: retos\, perspectivas y generaciones”. de 17:30 a 19:00h.
URL:https://www.cescisneros.es/evento/conferencia-inaugural-del-master-en-direccion-gestion-y-liderazgo-en-rrhh/
LOCATION:Madrid
END:VEVENT
BEGIN:VEVENT
DTSTART;TZID=Europe/Madrid:20251020T130000
DTEND;TZID=Europe/Madrid:20251020T130000
DTSTAMP:20260421T185718
CREATED:20251014T073107Z
LAST-MODIFIED:20251014T073127Z
UID:313400-1760965200-1760965200@www.cescisneros.es
SUMMARY:Jornada de Actualidad Jurídica | "Las relaciones del Tribunal Constitucional con el TJUE"
DESCRIPTION:Jornada de Actualidad Jurídica | «Las relaciones del Tribunal Constitucional con el TJUE»\, con José María Macías.\n\nLunes 20 de octubre.\nA las 13 horas.\nSala Cisneros.
URL:https://www.cescisneros.es/evento/jornada-de-actualidad-juridica-las-relaciones-del-tribunal-constitucional-con-el-tjue/
LOCATION:Sala Cisneros\, c/ General Díaz Porlier 58\, Madrid\, Madrid\, 28006\, Spain
CATEGORIES:Jornadas
END:VEVENT
BEGIN:VEVENT
DTSTART;TZID=Europe/Madrid:20251021T110000
DTEND;TZID=Europe/Madrid:20251021T180000
DTSTAMP:20260421T185718
CREATED:20250908T105514Z
LAST-MODIFIED:20250908T105514Z
UID:312121-1761044400-1761069600@www.cescisneros.es
SUMMARY:Foro de Empleo Cisneros
DESCRIPTION:21 de octubre\nde 11 a 18h.
URL:https://www.cescisneros.es/evento/foro-de-empleo-cisneros/
LOCATION:CES Cardenal Cisneros\, C/ General Díaz Porlier 58\, Madrid\, 28006
CATEGORIES:Foro
ORGANIZER;CN="CES Cardenal Cisneros":MAILTO:admisiones@cescisneros.es
END:VEVENT
BEGIN:VEVENT
DTSTART;TZID=Europe/Madrid:20251029T123000
DTEND;TZID=Europe/Madrid:20251029T123000
DTSTAMP:20260421T185718
CREATED:20250912T091557Z
LAST-MODIFIED:20250912T091825Z
UID:312356-1761741000-1761741000@www.cescisneros.es
SUMMARY:Taller sobre técnicas de estudio\, motivación y aprendizaje para universitarios
DESCRIPTION:29 de octubre\, a las 12:30 h.
URL:https://www.cescisneros.es/evento/taller-sobre-tecnicas-de-estudio-motivacion-y-aprendizaje-para-universitarios/
LOCATION:CES Cardenal Cisneros\, C/ General Díaz Porlier 58\, Madrid\, 28006
CATEGORIES:Taller
ORGANIZER;CN="CES Cardenal Cisneros":MAILTO:admisiones@cescisneros.es
END:VEVENT
BEGIN:VEVENT
DTSTART;TZID=Europe/Madrid:20251120T123000
DTEND;TZID=Europe/Madrid:20251120T140000
DTSTAMP:20260421T185718
CREATED:20251113T075757Z
LAST-MODIFIED:20251113T075757Z
UID:314331-1763641800-1763647200@www.cescisneros.es
SUMMARY:Expectativas\, depresión posparto y vínculo. Cuando la crianza no es lo que esperabas
DESCRIPTION:Bárbara Horrillo presenta «Expectativas\, depresión posparto y vínculo. Cuando la crianza no es lo que esperabas» \nSala Cisneros  \n20 de noviembre\, de 12:30 a 14h. 
URL:https://www.cescisneros.es/evento/expectativas-depresion-posparto-y-vinculo-cuando-la-crianza-no-es-lo-que-esperabas/
LOCATION:Sala Cisneros\, c/ General Díaz Porlier 58\, Madrid\, Madrid\, 28006\, Spain
CATEGORIES:Conferencia
END:VEVENT
BEGIN:VEVENT
DTSTART;TZID=Europe/Madrid:20251125T100000
DTEND;TZID=Europe/Madrid:20251125T140000
DTSTAMP:20260421T185718
CREATED:20251113T080035Z
LAST-MODIFIED:20251113T080035Z
UID:314333-1764064800-1764079200@www.cescisneros.es
SUMMARY:Campaña de Donación de Sangre (Cruz Roja)
DESCRIPTION:En la Sala Cisneros\, de 10 a 14h.
URL:https://www.cescisneros.es/evento/campana-de-donacion-de-sangre-cruz-roja/
LOCATION:Sala Cisneros\, c/ General Díaz Porlier 58\, Madrid\, Madrid\, 28006\, Spain
CATEGORIES:Campaña
END:VEVENT
BEGIN:VEVENT
DTSTART;TZID=Europe/Madrid:20251212T093000
DTEND;TZID=Europe/Madrid:20251212T143000
DTSTAMP:20260421T185718
CREATED:20251113T080449Z
LAST-MODIFIED:20251124T072837Z
UID:314337-1765531800-1765549800@www.cescisneros.es
SUMMARY:XII Jornada de Excelencia e Innovación en Psicología
DESCRIPTION:Ir a la página de la XII Jornada de Excelencia e Innovación en Psicología  \nDe 9:30h a 14:30h. En la Sede del Consejo General de la Psicología.
URL:https://www.cescisneros.es/evento/xii-jornada-de-excelencia-e-innovacion-en-psicologia/
LOCATION:Madrid
CATEGORIES:Jornadas
END:VEVENT
BEGIN:VEVENT
DTSTART;TZID=Europe/Madrid:20251212T160000
DTEND;TZID=Europe/Madrid:20251212T190000
DTSTAMP:20260421T185718
CREATED:20251121T105051Z
LAST-MODIFIED:20251216T090144Z
UID:314660-1765555200-1765566000@www.cescisneros.es
SUMMARY:Jornada de Puertas Abiertas 12 de diciembre
DESCRIPTION:Queremos que nos conozcas y resolver todas tus dudas. Te invitamos a visitar nuestras instalaciones\, charlar con nuestros profesores y descubrir nuestra oferta formativa el próximo viernes 12 de diciembre en unas Jornadas de Puertas Abiertas. Podrás conocer nuestro centro y recibir toda la información que necesitáis. Responderemos a todas vuestras preguntas. \nImpartimos títulos oficiales de la Universidad Complutense de Madrid en los grados de Psicología\, Derecho\, ADE y Derecho+ADE. \nPara asistir a la Jornada inscríbete en el horario que más se adecue a tu agenda (disponibilidad del turno supeditado a número limitado de plazas): \n\nDe 16 a 17h.\nDe 17 a 18 h.\nDe 18 a 19h.\n\nFormulario para la visita
URL:https://www.cescisneros.es/evento/jornada-de-puertas-abiertas-12-diciembre/
LOCATION:CES Cardenal Cisneros\, C/ General Díaz Porlier 58\, Madrid\, 28006
CATEGORIES:Jornadas
ORGANIZER;CN="CES Cardenal Cisneros":MAILTO:admisiones@cescisneros.es
END:VEVENT
BEGIN:VEVENT
DTSTART;TZID=Europe/Madrid:20260116T160000
DTEND;TZID=Europe/Madrid:20260116T190000
DTSTAMP:20260421T185718
CREATED:20251216T102930Z
LAST-MODIFIED:20251216T104030Z
UID:315702-1768579200-1768590000@www.cescisneros.es
SUMMARY:Jornada de Puertas Abiertas 16 de enero
DESCRIPTION:Queremos que nos conozcas y resolver todas tus dudas. Te invitamos a visitar nuestras instalaciones\, charlar con nuestros profesores y descubrir nuestra oferta formativa el próximo viernes 16 de enero en unas Jornadas de Puertas Abiertas. Podrás conocer nuestro centro y recibir toda la información que necesitáis. Responderemos a todas vuestras preguntas. \nImpartimos títulos oficiales de la Universidad Complutense de Madrid en los grados de Psicología\, Derecho\, ADE y Derecho+ADE. \nPara asistir a la Jornada inscríbete en el horario que más se adecue a tu agenda (disponibilidad del turno supeditado a número limitado de plazas): \n\nDe 16 a 17h.\nDe 17 a 18 h.\nDe 18 a 19h.\n\nFormulario para la visita
URL:https://www.cescisneros.es/evento/jornada-de-puertas-abiertas-16-enero/
LOCATION:CES Cardenal Cisneros\, C/ General Díaz Porlier 58\, Madrid\, 28006
CATEGORIES:Jornadas
ORGANIZER;CN="CES Cardenal Cisneros":MAILTO:admisiones@cescisneros.es
END:VEVENT
END:VCALENDAR