BEGIN:VCALENDAR
VERSION:2.0
PRODID:-//Centro Enseñanza Superior Cardenal Cisneros Madrid - ECPv6.15.20//NONSGML v1.0//EN
CALSCALE:GREGORIAN
METHOD:PUBLISH
X-WR-CALNAME:Centro Enseñanza Superior Cardenal Cisneros Madrid
X-ORIGINAL-URL:https://www.cescisneros.es
X-WR-CALDESC:Eventos para Centro Enseñanza Superior Cardenal Cisneros Madrid
REFRESH-INTERVAL;VALUE=DURATION:PT1H
X-Robots-Tag:noindex
X-PUBLISHED-TTL:PT1H
BEGIN:VTIMEZONE
TZID:Europe/Madrid
BEGIN:DAYLIGHT
TZOFFSETFROM:+0100
TZOFFSETTO:+0200
TZNAME:CEST
DTSTART:20230326T010000
END:DAYLIGHT
BEGIN:STANDARD
TZOFFSETFROM:+0200
TZOFFSETTO:+0100
TZNAME:CET
DTSTART:20231029T010000
END:STANDARD
BEGIN:DAYLIGHT
TZOFFSETFROM:+0100
TZOFFSETTO:+0200
TZNAME:CEST
DTSTART:20240331T010000
END:DAYLIGHT
BEGIN:STANDARD
TZOFFSETFROM:+0200
TZOFFSETTO:+0100
TZNAME:CET
DTSTART:20241027T010000
END:STANDARD
BEGIN:DAYLIGHT
TZOFFSETFROM:+0100
TZOFFSETTO:+0200
TZNAME:CEST
DTSTART:20250330T010000
END:DAYLIGHT
BEGIN:STANDARD
TZOFFSETFROM:+0200
TZOFFSETTO:+0100
TZNAME:CET
DTSTART:20251026T010000
END:STANDARD
END:VTIMEZONE
BEGIN:VEVENT
DTSTART;TZID=Europe/Madrid:20241009T123000
DTEND;TZID=Europe/Madrid:20241009T123000
DTSTAMP:20260422T173044
CREATED:20241003T083929Z
LAST-MODIFIED:20241010T135833Z
UID:289120-1728477000-1728477000@www.cescisneros.es
SUMMARY:Conferencia sobre ‘Supremacía Constitucional’
DESCRIPTION:Ponente: Sergio Díaz Ricci\, Catedrático de la Universidad Nacional de Tucumán y Magistrado vitalicio del Tribunal de Cuentas de la provincia de Tucumán \nMiércoles 9 de octubre\n12.30 horas\nSala Cisneros
URL:https://www.cescisneros.es/evento/conferencia-sobre-supremacia-constitucional/
LOCATION:Madrid
CATEGORIES:Conferencia
END:VEVENT
BEGIN:VEVENT
DTSTART;TZID=Europe/Madrid:20241004T100000
DTEND;TZID=Europe/Madrid:20241004T180000
DTSTAMP:20260422T173044
CREATED:20240913T082809Z
LAST-MODIFIED:20241010T135836Z
UID:287475-1728036000-1728064800@www.cescisneros.es
SUMMARY:IX Jornadas de Actualización en Psicología General Sanitaria CES Cardenal Cisneros
DESCRIPTION:27 de septiembre y 4 de octubre\nIX Jornadas de Actualización en Psicología General Sanitaria CES Cardenal Cisneros\nContacto de inscripción:\nsaragonzalez@cescisneros.es\nAcreditación de asistencia.\nSala Cisneros\nC/General Díaz Porlier\, 58 \n  \n4 DE OCTUBRE \n10.00-11.00\nAlejandra García Mañas\nNb Psicología\nPsicoterapia Integradora en el sector sanitario: práctica profesional \n11.00-12.00\nPatricia Benidit\nBennito Menni\nAtención Psicológica en UCPP: funciones\, terapias y externalización de cuidados \n12.00-13.00\nMiguel Ángel Maroto\nAhoraCentros\nEstimulación y Mantenimiento Cognitivo En Demencias \n13.00-14.00\nCristina Jiménez Huélamo\nInstituto Psiquiátrico Montreal\nComunidad Terapéutica: tratamiento intensivo para TMG. \n16.00-17.00\nJesús Alberto Fernández\nPrincesa 81\nIntervención de caso desde el modelo biopsicosocial de la psicología integrativa desde varios niveles de atención \n17.00-18.00\nAída López Gómez y Silvia Ezquerra Gómez:\nBangardia\nLa responsabilidad afectiva en terapia de pareja: Una aproximación clínica desde ACT
URL:https://www.cescisneros.es/evento/ix-jornadas-de-actualizacion-en-psicologia-general-sanitaria-ces-cardenal-cisneros-2/
LOCATION:Sala Cisneros\, c/ General Díaz Porlier 58\, Madrid\, Madrid\, 28006\, Spain
CATEGORIES:Jornadas
END:VEVENT
BEGIN:VEVENT
DTSTART;TZID=Europe/Madrid:20240927T203000
DTEND;TZID=Europe/Madrid:20240927T203000
DTSTAMP:20260422T173044
CREATED:20240917T111226Z
LAST-MODIFIED:20241010T135837Z
UID:287982-1727469000-1727469000@www.cescisneros.es
SUMMARY:Taller de Teatro
DESCRIPTION:Inicio clases de teatro: viernes 27 de septiembre \nSala Cisneros \n17.30-20.30 horas
URL:https://www.cescisneros.es/evento/taller-de-teatro/
LOCATION:Sala Cisneros\, c/ General Díaz Porlier 58\, Madrid\, Madrid\, 28006\, Spain
CATEGORIES:Taller
END:VEVENT
BEGIN:VEVENT
DTSTART;TZID=Europe/Madrid:20240927T100000
DTEND;TZID=Europe/Madrid:20240927T170000
DTSTAMP:20260422T173044
CREATED:20240913T082415Z
LAST-MODIFIED:20241010T135840Z
UID:287474-1727431200-1727456400@www.cescisneros.es
SUMMARY:IX Jornadas de Actualización en Psicología General Sanitaria CES Cardenal Cisneros
DESCRIPTION:27 de septiembre y 4 de octubre\nIX Jornadas de Actualización en Psicología General Sanitaria CES Cardenal Cisneros\nContacto de inscripción:\nsaragonzalez@cescisneros.es\nAcreditación de asistencia.\nSala Cisneros\nC/General Díaz Porlier\, 58 \n27 SEPTIEMBRE \n10.00-11.00\nÁngeles Muñoz\nSanatorio Esquerdo\nLas prácticas en Hestia Esquerdo: hacia un coterapeuta más \n11.00-12.00\nMaría Contreras González y Rocío Díaz Aguayo\nMentalia Guadarrama\nFunciones del PGS en trastorno mental grave. Casos clínicos \n12.00-13.00\nMireia Cañeque\nPsicoLink\nPsicología a medida: La importancia del vínculo terapéutico. \n13.00-14.00\nBeatriz Sevilla\nRecurra Ginso\nUn programa terapéutico para familias en conflicto con sus hijos \n16.00-17.00\nMaría Cendrero\nLópez Ibor\nAbordaje terapéutico en Patología Dual \n4 DE OCTUBRE \n10.00-11.00\nAlejandra García Mañas\nNb Psicología\nPsicoterapia Integradora en el sector sanitario: práctica profesional \n11.00-12.00\nPatricia Benidit\nBennito Menni\nAtención Psicológica en UCPP: funciones\, terapias y externalización de cuidados \n12.00-13.00\nMiguel Ángel Maroto\nAhoraCentros\nEstimulación y Mantenimiento Cognitivo En Demencias \n13.00-14.00\nCristina Jiménez Huélamo\nInstituto Psiquiátrico Montreal\nComunidad Terapéutica: tratamiento intensivo para TMG. \n16.00-17.00\nJesús Alberto Fernández\nPrincesa 81\nIntervención de caso desde el modelo biopsicosocial de la psicología integrativa desde varios niveles de atención \n17.00-18.00\nAída López Gómez y Silvia Ezquerra Gómez:\nBangardia\nLa responsabilidad afectiva en terapia de pareja: Una aproximación clínica desde ACT
URL:https://www.cescisneros.es/evento/ix-jornadas-de-actualizacion-en-psicologia-general-sanitaria-ces-cardenal-cisneros/
LOCATION:Sala Cisneros\, c/ General Díaz Porlier 58\, Madrid\, Madrid\, 28006\, Spain
CATEGORIES:Jornadas
END:VEVENT
BEGIN:VEVENT
DTSTART;TZID=Europe/Madrid:20240923T193000
DTEND;TZID=Europe/Madrid:20240923T193000
DTSTAMP:20260422T173044
CREATED:20240912T112143Z
LAST-MODIFIED:20241010T135842Z
UID:287256-1727119800-1727119800@www.cescisneros.es
SUMMARY:Un libro\, un corto y una sociedad científica: hablemos de paliativos
DESCRIPTION:Lunes 23 de septiembre \n19.30 horas \nAteneo de Madrid \n‘Un libro\, un corto y una sociedad científica: hablemos de paliativos’ \nIntervienen: \nHelena García: Profesora del CES Cardenal Cisneros y vicepresidenta de la Sociedad Española de Cuidados Paliativos \nElía Martínez Moreno \nNach Solís \nSamuel Dacanda
URL:https://www.cescisneros.es/evento/un-libro-un-corto-y-una-sociedad-cientifica-hablemos-de-paliativos/
LOCATION:Madrid
CATEGORIES:Conferencias
END:VEVENT
BEGIN:VEVENT
DTSTART;TZID=Europe/Madrid:20240916T190000
DTEND;TZID=Europe/Madrid:20240916T190000
DTSTAMP:20260422T173044
CREATED:20240905T083148Z
LAST-MODIFIED:20241010T135845Z
UID:286352-1726513200-1726513200@www.cescisneros.es
SUMMARY:Conferencia inaugural Máster de Acceso a la Abogacía y la Procura: ‘Decostruccción y destrucción del Estado de Derecho”
DESCRIPTION:Consuelo Madrigal\, Fiscal de Sala del Tribunal Supremo \nLunes 16 de septiembre\n19.00 horas\nSala Cisneros
URL:https://www.cescisneros.es/evento/conferencia-inaugural-master-de-acceso-a-la-abogacia-y-la-procura-decostrucccion-y-destruccion-del-estado-de-derecho/
LOCATION:Sala Cisneros\, c/ General Díaz Porlier 58\, Madrid\, Madrid\, 28006\, Spain
CATEGORIES:Conferencias
END:VEVENT
BEGIN:VEVENT
DTSTART;TZID=Europe/Madrid:20240625T173000
DTEND;TZID=Europe/Madrid:20240625T173000
DTSTAMP:20260422T173044
CREATED:20240603T094603Z
LAST-MODIFIED:20241010T135912Z
UID:277649-1719336600-1719336600@www.cescisneros.es
SUMMARY:Por qué Recursos Humanos debería ser como Netflix
DESCRIPTION:Pilar Llácer Centeno. Miembro del comité asesor de desarrollo organizacional y gestión del talento en Air Europa \n17. 30 horas\nSala Cisneros
URL:https://www.cescisneros.es/evento/por-que-recursos-humanos-deberia-ser-como-netflix/
LOCATION:Sala Cisneros\, c/ General Díaz Porlier 58\, Madrid\, Madrid\, 28006\, Spain
CATEGORIES:Conferencia
END:VEVENT
BEGIN:VEVENT
DTSTART;TZID=Europe/Madrid:20240619T173000
DTEND;TZID=Europe/Madrid:20240619T173000
DTSTAMP:20260422T173044
CREATED:20240603T095717Z
LAST-MODIFIED:20241010T135914Z
UID:277651-1718818200-1718818200@www.cescisneros.es
SUMMARY:Neurodiversidad en las Organizaciones. Importancia de la función de Recursos Humanos para facilitar la inclusión.
DESCRIPTION:Aline Bravo EMEIA FSO Consulting Communication and Engagement Manager- Secondment en EY. Defensora de la discapacidad y la inclusión en el lugar de trabajo. Conferenciante TedX. Responsable de Comunicación y Compromiso de EMEIA en FSO Consulting (EY) \n17. 30 horas\nSala Cisneros
URL:https://www.cescisneros.es/evento/neurodiversidad-en-las-organizaciones-importancia-de-la-funcion-de-recursos-humanos-para-facilitar-la-inclusion/
LOCATION:Sala Cisneros\, c/ General Díaz Porlier 58\, Madrid\, Madrid\, 28006\, Spain
CATEGORIES:Conferencia
END:VEVENT
BEGIN:VEVENT
DTSTART;TZID=Europe/Madrid:20240610T173000
DTEND;TZID=Europe/Madrid:20240610T173000
DTSTAMP:20260422T173044
CREATED:20240603T095405Z
LAST-MODIFIED:20241010T135916Z
UID:277650-1718040600-1718040600@www.cescisneros.es
SUMMARY:La nueva realidad del “Desarrollo de Talento”. Aplicación práctica de un caso real: NOVA TALENT.
DESCRIPTION:Marina Córcoles Carrasco. Talent Agent en Nova Talent. Psicóloga con una doble especialización en Recursos Humanos y Psicología Clínica\, combinando su pasión por comprender a las personas con una sólida base en estrategias de Gestión del Talento. \n17. 30 horas\nSala Cisneros
URL:https://www.cescisneros.es/evento/la-nueva-realidad-del-desarrollo-de-talento-aplicacion-practica-de-un-caso-real-nova-talent/
LOCATION:Sala Cisneros\, c/ General Díaz Porlier 58\, Madrid\, Madrid\, 28006\, Spain
CATEGORIES:Conferencias
END:VEVENT
BEGIN:VEVENT
DTSTART;TZID=Europe/Madrid:20240523T070000
DTEND;TZID=Europe/Madrid:20240523T070000
DTSTAMP:20260422T173044
CREATED:20240520T094439Z
LAST-MODIFIED:20241017T075656Z
UID:276335-1716447600-1716447600@www.cescisneros.es
SUMMARY:Sesión informativa online Máster en Salud Mental Perinatal
DESCRIPTION:Con Bárbara Horrillo\nJueves 23 de mayo\n19.00 horas\nVía Zoom: Launch Meeting – Zoom
URL:https://www.cescisneros.es/evento/sesion-informativa-online-master-en-salud-mental-perinatal/
LOCATION:CES Cardenal Cisneros\, C/ General Díaz Porlier 58\, Madrid\, 28006
CATEGORIES:Sesión informativa
END:VEVENT
END:VCALENDAR